Package: scRepertoire Version: 2.3.2 Command: /Library/Frameworks/R.framework/Resources/bin/R CMD build --keep-empty-dirs --no-resave-data scRepertoire StartedAt: 2025-02-09 18:22:48 -0500 (Sun, 09 Feb 2025) EndedAt: 2025-02-09 18:27:35 -0500 (Sun, 09 Feb 2025) EllapsedTime: 287.1 seconds RetCode: 0 Status: OK PackageFile: scRepertoire_2.3.2.tar.gz PackageFileSize: 23.34 MiB