Package: scRepertoire Version: 2.3.2 Command: /Library/Frameworks/R.framework/Resources/bin/R CMD INSTALL scRepertoire StartedAt: 2025-02-09 15:37:14 -0500 (Sun, 09 Feb 2025) EndedAt: 2025-02-09 15:38:35 -0500 (Sun, 09 Feb 2025) EllapsedTime: 80.9 seconds RetCode: 0 Status: OK