Package: scRepertoire Version: 2.3.2 Command: /home/biocbuild/bbs-3.21-bioc/R/bin/R CMD build --keep-empty-dirs --no-resave-data scRepertoire StartedAt: 2025-02-03 19:19:31 -0500 (Mon, 03 Feb 2025) EndedAt: 2025-02-03 19:23:11 -0500 (Mon, 03 Feb 2025) EllapsedTime: 220.2 seconds RetCode: 0 Status: OK PackageFile: scRepertoire_2.3.2.tar.gz PackageFileSize: 21.56 MiB