Package: scRepertoire Version: 2.3.2 Command: /home/biocbuild/bbs-3.21-bioc/R/bin/R CMD check --install=check:scRepertoire.install-out.txt --library=/home/biocbuild/bbs-3.21-bioc/R/site-library --timings scRepertoire_2.3.2.tar.gz StartedAt: 2025-02-04 02:34:13 -0500 (Tue, 04 Feb 2025) EndedAt: 2025-02-04 02:45:01 -0500 (Tue, 04 Feb 2025) EllapsedTime: 648.0 seconds RetCode: 0 Status: OK CheckDir: scRepertoire.Rcheck Warnings: 0