Package: scRepertoire Version: 2.3.2 Command: /home/biocbuild/bbs-3.21-bioc/R/bin/R CMD INSTALL scRepertoire StartedAt: 2025-02-03 15:31:03 -0500 (Mon, 03 Feb 2025) EndedAt: 2025-02-03 15:32:04 -0500 (Mon, 03 Feb 2025) EllapsedTime: 60.5 seconds RetCode: 0 Status: OK