Package: scRepertoire Version: 2.3.2 Command: rm -rf scRepertoire.buildbin-libdir && mkdir scRepertoire.buildbin-libdir && E:\biocbuild\bbs-3.21-bioc\R\bin\R.exe CMD INSTALL --build --library=scRepertoire.buildbin-libdir scRepertoire_2.3.2.tar.gz StartedAt: 2025-02-10 08:40:32 -0500 (Mon, 10 Feb 2025) EndedAt: 2025-02-10 08:43:52 -0500 (Mon, 10 Feb 2025) EllapsedTime: 200.4 seconds RetCode: 0 Status: OK PackageFile: scRepertoire_2.3.2.zip PackageFileSize: 5.061 MiB