Package: scRepertoire Version: 2.3.2 Command: chmod a+r scRepertoire -R && E:\biocbuild\bbs-3.21-bioc\R\bin\R.exe CMD build --keep-empty-dirs --no-resave-data scRepertoire StartedAt: 2025-02-03 21:44:56 -0500 (Mon, 03 Feb 2025) EndedAt: 2025-02-03 21:51:01 -0500 (Mon, 03 Feb 2025) EllapsedTime: 364.7 seconds RetCode: 0 Status: OK PackageFile: scRepertoire_2.3.2.tar.gz PackageFileSize: 18.15 MiB