Package: scRepertoire Version: 2.3.2 Command: E:\biocbuild\bbs-3.21-bioc\R\bin\R.exe CMD check --no-multiarch --install=check:scRepertoire.install-out.txt --library=E:\biocbuild\bbs-3.21-bioc\R\library --no-vignettes --timings scRepertoire_2.3.2.tar.gz StartedAt: 2025-02-10 05:15:25 -0500 (Mon, 10 Feb 2025) EndedAt: 2025-02-10 05:25:56 -0500 (Mon, 10 Feb 2025) EllapsedTime: 631.1 seconds RetCode: 0 Status: OK CheckDir: scRepertoire.Rcheck Warnings: 0