Package: scShapes Version: 1.13.0 Command: /Library/Frameworks/R.framework/Resources/bin/R CMD check --install=check:scShapes.install-out.txt --library=/Library/Frameworks/R.framework/Resources/library --no-vignettes --timings scShapes_1.13.0.tar.gz StartedAt: 2025-02-09 21:16:24 -0500 (Sun, 09 Feb 2025) EndedAt: 2025-02-09 21:17:31 -0500 (Sun, 09 Feb 2025) EllapsedTime: 66.8 seconds RetCode: 0 Status: OK CheckDir: scShapes.Rcheck Warnings: 0