Package: scShapes Version: 1.13.0 Command: /home/biocbuild/R/R/bin/R CMD build --keep-empty-dirs --no-resave-data scShapes StartedAt: 2025-01-29 02:13:03 -0000 (Wed, 29 Jan 2025) EndedAt: 2025-01-29 02:14:58 -0000 (Wed, 29 Jan 2025) EllapsedTime: 115.1 seconds RetCode: 0 Status: OK PackageFile: scShapes_1.13.0.tar.gz PackageFileSize: 30.69 KiB