Package: scShapes Version: 1.13.0 Command: rm -rf scShapes.buildbin-libdir && mkdir scShapes.buildbin-libdir && /Users/biocbuild/BBS/utils/build-universal.sh scShapes_1.13.0.tar.gz /Library/Frameworks/R.framework/Resources/bin/R scShapes.buildbin-libdir StartedAt: 2025-02-13 00:58:01 -0500 (Thu, 13 Feb 2025) EndedAt: 2025-02-13 00:58:14 -0500 (Thu, 13 Feb 2025) EllapsedTime: 12.7 seconds RetCode: 0 Status: OK PackageFile: scShapes_1.13.0.tgz PackageFileSize: 71.93 KiB