Package: scShapes Version: 1.13.0 Command: /Library/Frameworks/R.framework/Resources/bin/R CMD build --keep-empty-dirs --no-resave-data scShapes StartedAt: 2025-02-09 18:23:46 -0500 (Sun, 09 Feb 2025) EndedAt: 2025-02-09 18:25:47 -0500 (Sun, 09 Feb 2025) EllapsedTime: 120.8 seconds RetCode: 0 Status: OK PackageFile: scShapes_1.13.0.tar.gz PackageFileSize: 29.92 KiB