Package: scShapes Version: 1.13.0 Command: /Library/Frameworks/R.framework/Resources/bin/R CMD check --install=check:scShapes.install-out.txt --library=/Library/Frameworks/R.framework/Resources/library --no-vignettes --timings scShapes_1.13.0.tar.gz StartedAt: 2025-02-09 23:31:02 -0500 (Sun, 09 Feb 2025) EndedAt: 2025-02-09 23:34:20 -0500 (Sun, 09 Feb 2025) EllapsedTime: 198.6 seconds RetCode: 0 Status: OK CheckDir: scShapes.Rcheck Warnings: 0