Package: scShapes Version: 1.13.0 Command: /home/biocbuild/bbs-3.21-bioc/R/bin/R CMD build --keep-empty-dirs --no-resave-data scShapes StartedAt: 2025-02-09 19:12:05 -0500 (Sun, 09 Feb 2025) EndedAt: 2025-02-09 19:13:28 -0500 (Sun, 09 Feb 2025) EllapsedTime: 83.0 seconds RetCode: 0 Status: OK PackageFile: scShapes_1.13.0.tar.gz PackageFileSize: 30.1 KiB