Package: scShapes Version: 1.13.0 Command: chmod a+r scShapes -R && E:\biocbuild\bbs-3.21-bioc\R\bin\R.exe CMD build --keep-empty-dirs --no-resave-data scShapes StartedAt: 2025-02-12 21:39:31 -0500 (Wed, 12 Feb 2025) EndedAt: 2025-02-12 21:41:35 -0500 (Wed, 12 Feb 2025) EllapsedTime: 124.7 seconds RetCode: 0 Status: OK PackageFile: scShapes_1.13.0.tar.gz PackageFileSize: 30.08 KiB