Package: scShapes Version: 1.13.0 Command: E:\biocbuild\bbs-3.21-bioc\R\bin\R.exe CMD INSTALL scShapes StartedAt: 2025-02-12 15:38:05 -0500 (Wed, 12 Feb 2025) EndedAt: 2025-02-12 15:38:21 -0500 (Wed, 12 Feb 2025) EllapsedTime: 16.0 seconds RetCode: 0 Status: OK