Package: scTHI Version: 1.19.0 Command: /Library/Frameworks/R.framework/Resources/bin/R CMD check --install=check:scTHI.install-out.txt --library=/Library/Frameworks/R.framework/Resources/library --no-vignettes --timings scTHI_1.19.0.tar.gz StartedAt: 2025-02-09 23:31:29 -0500 (Sun, 09 Feb 2025) EndedAt: 2025-02-09 23:32:38 -0500 (Sun, 09 Feb 2025) EllapsedTime: 69.3 seconds RetCode: 0 Status: OK CheckDir: scTHI.Rcheck Warnings: 0