Package: scTHI Version: 1.19.0 Command: /home/biocbuild/bbs-3.21-bioc/R/bin/R CMD build --keep-empty-dirs --no-resave-data scTHI StartedAt: 2025-02-09 19:12:34 -0500 (Sun, 09 Feb 2025) EndedAt: 2025-02-09 19:13:37 -0500 (Sun, 09 Feb 2025) EllapsedTime: 63.0 seconds RetCode: 0 Status: OK PackageFile: scTHI_1.19.0.tar.gz PackageFileSize: 712 KiB