Package: scTHI Version: 1.19.0 Command: /home/biocbuild/bbs-3.21-bioc/R/bin/R CMD check --install=check:scTHI.install-out.txt --library=/home/biocbuild/bbs-3.21-bioc/R/site-library --timings scTHI_1.19.0.tar.gz StartedAt: 2025-02-10 02:29:45 -0500 (Mon, 10 Feb 2025) EndedAt: 2025-02-10 02:31:39 -0500 (Mon, 10 Feb 2025) EllapsedTime: 114.1 seconds RetCode: 0 Status: OK CheckDir: scTHI.Rcheck Warnings: 0