Package: scTHI Version: 1.19.0 Command: /home/biocbuild/bbs-3.21-bioc/R/bin/R CMD INSTALL scTHI StartedAt: 2025-02-03 15:14:38 -0500 (Mon, 03 Feb 2025) EndedAt: 2025-02-03 15:14:44 -0500 (Mon, 03 Feb 2025) EllapsedTime: 6.5 seconds RetCode: 0 Status: OK