Package: scTensor Version: 2.17.0 Command: /Library/Frameworks/R.framework/Resources/bin/R CMD build --keep-empty-dirs --no-resave-data scTensor StartedAt: 2025-02-04 17:34:35 -0500 (Tue, 04 Feb 2025) EndedAt: 2025-02-04 17:35:36 -0500 (Tue, 04 Feb 2025) EllapsedTime: 61.7 seconds RetCode: 0 Status: OK PackageFile: scTensor_2.17.0.tar.gz PackageFileSize: 10.49 MiB