Package: scTensor Version: 2.17.0 Command: /home/biocbuild/R/R/bin/R CMD build --keep-empty-dirs --no-resave-data scTensor StartedAt: 2025-01-29 02:14:12 -0000 (Wed, 29 Jan 2025) EndedAt: 2025-01-29 02:16:52 -0000 (Wed, 29 Jan 2025) EllapsedTime: 160.1 seconds RetCode: 0 Status: OK PackageFile: scTensor_2.17.0.tar.gz PackageFileSize: 10.38 MiB