Package: scTensor Version: 2.17.0 Command: rm -rf scTensor.buildbin-libdir && mkdir scTensor.buildbin-libdir && /Users/biocbuild/BBS/utils/build-universal.sh scTensor_2.17.0.tar.gz /Library/Frameworks/R.framework/Resources/bin/R scTensor.buildbin-libdir StartedAt: 2025-02-04 00:55:46 -0500 (Tue, 04 Feb 2025) EndedAt: 2025-02-04 00:57:10 -0500 (Tue, 04 Feb 2025) EllapsedTime: 84.4 seconds RetCode: 0 Status: OK PackageFile: scTensor_2.17.0.tgz PackageFileSize: 5.88 MiB