Package: scTensor Version: 2.17.0 Command: /Library/Frameworks/R.framework/Resources/bin/R CMD check --install=check:scTensor.install-out.txt --library=/Library/Frameworks/R.framework/Resources/library --no-vignettes --timings scTensor_2.17.0.tar.gz StartedAt: 2025-02-09 23:31:15 -0500 (Sun, 09 Feb 2025) EndedAt: 2025-02-09 23:38:24 -0500 (Sun, 09 Feb 2025) EllapsedTime: 428.3 seconds RetCode: 0 Status: WARNINGS CheckDir: scTensor.Rcheck Warnings: 1