Package: scTensor Version: 2.17.0 Command: /Library/Frameworks/R.framework/Resources/bin/R CMD INSTALL scTensor StartedAt: 2025-02-03 15:42:55 -0500 (Mon, 03 Feb 2025) EndedAt: 2025-02-03 15:44:12 -0500 (Mon, 03 Feb 2025) EllapsedTime: 76.9 seconds RetCode: 0 Status: OK