Package: scTensor Version: 2.17.0 Command: /home/biocbuild/bbs-3.21-bioc/R/bin/R CMD build --keep-empty-dirs --no-resave-data scTensor StartedAt: 2025-02-09 19:12:09 -0500 (Sun, 09 Feb 2025) EndedAt: 2025-02-09 19:14:04 -0500 (Sun, 09 Feb 2025) EllapsedTime: 115.1 seconds RetCode: 0 Status: OK PackageFile: scTensor_2.17.0.tar.gz PackageFileSize: 10.31 MiB