Package: scTensor Version: 2.17.0 Command: /home/biocbuild/bbs-3.21-bioc/R/bin/R CMD check --install=check:scTensor.install-out.txt --library=/home/biocbuild/bbs-3.21-bioc/R/site-library --timings scTensor_2.17.0.tar.gz StartedAt: 2025-02-10 02:29:14 -0500 (Mon, 10 Feb 2025) EndedAt: 2025-02-10 02:36:41 -0500 (Mon, 10 Feb 2025) EllapsedTime: 447.6 seconds RetCode: 0 Status: WARNINGS CheckDir: scTensor.Rcheck Warnings: 1