Package: scTensor Version: 2.17.0 Command: /home/biocbuild/bbs-3.21-bioc/R/bin/R CMD INSTALL scTensor StartedAt: 2025-02-03 15:54:27 -0500 (Mon, 03 Feb 2025) EndedAt: 2025-02-03 15:55:23 -0500 (Mon, 03 Feb 2025) EllapsedTime: 55.7 seconds RetCode: 0 Status: OK