Package: scTensor Version: 2.17.0 Command: rm -rf scTensor.buildbin-libdir && mkdir scTensor.buildbin-libdir && E:\biocbuild\bbs-3.21-bioc\R\bin\R.exe CMD INSTALL --build --library=scTensor.buildbin-libdir scTensor_2.17.0.tar.gz StartedAt: 2025-02-04 08:53:42 -0500 (Tue, 04 Feb 2025) EndedAt: 2025-02-04 08:55:20 -0500 (Tue, 04 Feb 2025) EllapsedTime: 98.0 seconds RetCode: 0 Status: OK PackageFile: scTensor_2.17.0.zip PackageFileSize: 5.661 MiB