Package: scTensor Version: 2.17.0 Command: E:\biocbuild\bbs-3.21-bioc\R\bin\R.exe CMD check --no-multiarch --install=check:scTensor.install-out.txt --library=E:\biocbuild\bbs-3.21-bioc\R\library --no-vignettes --timings scTensor_2.17.0.tar.gz StartedAt: 2025-02-10 05:17:08 -0500 (Mon, 10 Feb 2025) EndedAt: 2025-02-10 05:23:29 -0500 (Mon, 10 Feb 2025) EllapsedTime: 380.7 seconds RetCode: 0 Status: WARNINGS CheckDir: scTensor.Rcheck Warnings: 1