Package: scTensor Version: 2.17.0 Command: E:\biocbuild\bbs-3.21-bioc\R\bin\R.exe CMD INSTALL scTensor StartedAt: 2025-02-09 16:35:47 -0500 (Sun, 09 Feb 2025) EndedAt: 2025-02-09 16:37:13 -0500 (Sun, 09 Feb 2025) EllapsedTime: 86.1 seconds RetCode: 0 Status: OK