Package: scTreeViz Version: 1.13.0 Command: /Library/Frameworks/R.framework/Resources/bin/R CMD check --install=check:scTreeViz.install-out.txt --library=/Library/Frameworks/R.framework/Resources/library --no-vignettes --timings scTreeViz_1.13.0.tar.gz StartedAt: 2025-02-09 21:17:17 -0500 (Sun, 09 Feb 2025) EndedAt: 2025-02-09 21:20:22 -0500 (Sun, 09 Feb 2025) EllapsedTime: 184.2 seconds RetCode: 0 Status: OK CheckDir: scTreeViz.Rcheck Warnings: 0