Package: scTreeViz Version: 1.13.0 Command: /home/biocbuild/R/R/bin/R CMD build --keep-empty-dirs --no-resave-data scTreeViz StartedAt: 2025-01-29 02:14:56 -0000 (Wed, 29 Jan 2025) EndedAt: 2025-01-29 02:18:55 -0000 (Wed, 29 Jan 2025) EllapsedTime: 239.2 seconds RetCode: 0 Status: OK PackageFile: scTreeViz_1.13.0.tar.gz PackageFileSize: 2.314 MiB