Package: scTreeViz Version: 1.13.0 Command: /home/biocbuild/R/R/bin/R CMD check --install=check:scTreeViz.install-out.txt --library=/home/biocbuild/R/R/site-library --no-vignettes --timings scTreeViz_1.13.0.tar.gz StartedAt: 2025-01-28 15:10:23 -0000 (Tue, 28 Jan 2025) EndedAt: 2025-01-28 15:21:27 -0000 (Tue, 28 Jan 2025) EllapsedTime: 664.8 seconds RetCode: 0 Status: WARNINGS CheckDir: scTreeViz.Rcheck Warnings: 5