Package: scTreeViz Version: 1.13.0 Command: /home/biocbuild/R/R/bin/R CMD INSTALL scTreeViz StartedAt: 2025-01-29 20:30:03 -0000 (Wed, 29 Jan 2025) EndedAt: 2025-01-29 20:31:37 -0000 (Wed, 29 Jan 2025) EllapsedTime: 94.6 seconds RetCode: 0 Status: OK