Package: scTreeViz Version: 1.13.0 Command: /Library/Frameworks/R.framework/Resources/bin/R CMD INSTALL scTreeViz StartedAt: 2025-02-04 15:40:06 -0500 (Tue, 04 Feb 2025) EndedAt: 2025-02-04 15:41:35 -0500 (Tue, 04 Feb 2025) EllapsedTime: 89.2 seconds RetCode: 0 Status: OK