Package: scTreeViz Version: 1.13.0 Command: /home/biocbuild/bbs-3.21-bioc/R/bin/R CMD build --keep-empty-dirs --no-resave-data scTreeViz StartedAt: 2025-02-04 19:10:09 -0500 (Tue, 04 Feb 2025) EndedAt: 2025-02-04 19:12:47 -0500 (Tue, 04 Feb 2025) EllapsedTime: 158.3 seconds RetCode: 0 Status: OK PackageFile: scTreeViz_1.13.0.tar.gz PackageFileSize: 2.298 MiB