Package: scanMiR Version: 1.13.0 Command: /Library/Frameworks/R.framework/Resources/bin/R CMD INSTALL scanMiR StartedAt: 2025-02-09 15:15:40 -0500 (Sun, 09 Feb 2025) EndedAt: 2025-02-09 15:16:03 -0500 (Sun, 09 Feb 2025) EllapsedTime: 23.0 seconds RetCode: 0 Status: OK