Package: scanMiR Version: 1.13.0 Command: /home/biocbuild/bbs-3.21-bioc/R/bin/R CMD check --install=check:scanMiR.install-out.txt --library=/home/biocbuild/bbs-3.21-bioc/R/site-library --timings scanMiR_1.13.0.tar.gz StartedAt: 2025-02-13 02:14:16 -0500 (Thu, 13 Feb 2025) EndedAt: 2025-02-13 02:16:20 -0500 (Thu, 13 Feb 2025) EllapsedTime: 123.2 seconds RetCode: 0 Status: OK CheckDir: scanMiR.Rcheck Warnings: 0