Package: scanMiR Version: 1.13.0 Command: chmod a+r scanMiR -R && E:\biocbuild\bbs-3.21-bioc\R\bin\R.exe CMD build --keep-empty-dirs --no-resave-data scanMiR StartedAt: 2025-02-12 21:29:41 -0500 (Wed, 12 Feb 2025) EndedAt: 2025-02-12 21:30:29 -0500 (Wed, 12 Feb 2025) EllapsedTime: 48.1 seconds RetCode: 0 Status: OK PackageFile: scanMiR_1.13.0.tar.gz PackageFileSize: 1.013 MiB