Package: scanMiR Version: 1.13.0 Command: E:\biocbuild\bbs-3.21-bioc\R\bin\R.exe CMD check --no-multiarch --install=check:scanMiR.install-out.txt --library=E:\biocbuild\bbs-3.21-bioc\R\library --no-vignettes --timings scanMiR_1.13.0.tar.gz StartedAt: 2025-02-13 05:10:58 -0500 (Thu, 13 Feb 2025) EndedAt: 2025-02-13 05:13:10 -0500 (Thu, 13 Feb 2025) EllapsedTime: 132.0 seconds RetCode: 0 Status: OK CheckDir: scanMiR.Rcheck Warnings: 0