Package: scater Version: 1.35.1 Command: /Library/Frameworks/R.framework/Resources/bin/R CMD build --keep-empty-dirs --no-resave-data scater StartedAt: 2025-02-12 17:29:57 -0500 (Wed, 12 Feb 2025) EndedAt: 2025-02-12 17:31:05 -0500 (Wed, 12 Feb 2025) EllapsedTime: 67.8 seconds RetCode: 0 Status: OK PackageFile: scater_1.35.1.tar.gz PackageFileSize: 4.47 MiB