Package: scater Version: 1.35.1 Command: /Library/Frameworks/R.framework/Resources/bin/R CMD check --install=check:scater.install-out.txt --library=/Library/Frameworks/R.framework/Resources/library --no-vignettes --timings scater_1.35.1.tar.gz StartedAt: 2025-02-09 21:09:20 -0500 (Sun, 09 Feb 2025) EndedAt: 2025-02-09 21:12:14 -0500 (Sun, 09 Feb 2025) EllapsedTime: 174.0 seconds RetCode: 1 Status: ERROR CheckDir: scater.Rcheck Warnings: NA