Package: scater Version: 1.35.0 Command: /home/biocbuild/R/R/bin/R CMD build --keep-empty-dirs --no-resave-data scater StartedAt: 2025-01-29 02:00:06 -0000 (Wed, 29 Jan 2025) EndedAt: 2025-01-29 02:03:57 -0000 (Wed, 29 Jan 2025) EllapsedTime: 230.2 seconds RetCode: 0 Status: OK PackageFile: scater_1.35.0.tar.gz PackageFileSize: 2.155 MiB