Package: scater Version: 1.35.0 Command: /home/biocbuild/R/R/bin/R CMD INSTALL scater StartedAt: 2025-01-29 20:27:24 -0000 (Wed, 29 Jan 2025) EndedAt: 2025-01-29 20:28:04 -0000 (Wed, 29 Jan 2025) EllapsedTime: 39.5 seconds RetCode: 0 Status: OK