Package: scater Version: 1.35.1 Command: rm -rf scater.buildbin-libdir && mkdir scater.buildbin-libdir && /Users/biocbuild/BBS/utils/build-universal.sh scater_1.35.1.tar.gz /Library/Frameworks/R.framework/Resources/bin/R scater.buildbin-libdir StartedAt: 2025-02-13 00:56:41 -0500 (Thu, 13 Feb 2025) EndedAt: 2025-02-13 00:57:24 -0500 (Thu, 13 Feb 2025) EllapsedTime: 42.5 seconds RetCode: 0 Status: OK PackageFile: scater_1.35.1.tgz PackageFileSize: 4.579 MiB