Package: scater Version: 1.35.1 Command: /home/biocbuild/bbs-3.21-bioc/R/bin/R CMD INSTALL scater StartedAt: 2025-02-09 15:51:46 -0500 (Sun, 09 Feb 2025) EndedAt: 2025-02-09 15:52:16 -0500 (Sun, 09 Feb 2025) EllapsedTime: 29.5 seconds RetCode: 0 Status: OK