Package: scater Version: 1.35.1 Command: E:\biocbuild\bbs-3.21-bioc\R\bin\R.exe CMD check --no-multiarch --install=check:scater.install-out.txt --library=E:\biocbuild\bbs-3.21-bioc\R\library --no-vignettes --timings scater_1.35.1.tar.gz StartedAt: 2025-02-13 05:11:27 -0500 (Thu, 13 Feb 2025) EndedAt: 2025-02-13 05:19:57 -0500 (Thu, 13 Feb 2025) EllapsedTime: 510.0 seconds RetCode: 0 Status: OK CheckDir: scater.Rcheck Warnings: 0