Package: scatterHatch Version: 1.13.0 Command: /Library/Frameworks/R.framework/Resources/bin/R CMD build --keep-empty-dirs --no-resave-data scatterHatch StartedAt: 2025-02-09 17:29:58 -0500 (Sun, 09 Feb 2025) EndedAt: 2025-02-09 17:30:15 -0500 (Sun, 09 Feb 2025) EllapsedTime: 17.2 seconds RetCode: 0 Status: OK PackageFile: scatterHatch_1.13.0.tar.gz PackageFileSize: 4.245 MiB