Package: scatterHatch Version: 1.13.0 Command: E:\biocbuild\bbs-3.21-bioc\R\bin\R.exe CMD INSTALL scatterHatch StartedAt: 2025-02-12 15:33:28 -0500 (Wed, 12 Feb 2025) EndedAt: 2025-02-12 15:33:47 -0500 (Wed, 12 Feb 2025) EllapsedTime: 18.6 seconds RetCode: 0 Status: OK